BEGIN:VCALENDAR
VERSION:2.0
PRODID:-//The Paddington Society - ECPv6.15.18//NONSGML v1.0//EN
CALSCALE:GREGORIAN
METHOD:PUBLISH
X-ORIGINAL-URL:https://paddingtonsociety.org.au
X-WR-CALDESC:Events for The Paddington Society
REFRESH-INTERVAL;VALUE=DURATION:PT1H
X-Robots-Tag:noindex
X-PUBLISHED-TTL:PT1H
BEGIN:VTIMEZONE
TZID:Australia/Sydney
BEGIN:STANDARD
TZOFFSETFROM:+1100
TZOFFSETTO:+1000
TZNAME:AEST
DTSTART:20240406T160000
END:STANDARD
BEGIN:DAYLIGHT
TZOFFSETFROM:+1000
TZOFFSETTO:+1100
TZNAME:AEDT
DTSTART:20241005T160000
END:DAYLIGHT
BEGIN:STANDARD
TZOFFSETFROM:+1100
TZOFFSETTO:+1000
TZNAME:AEST
DTSTART:20250405T160000
END:STANDARD
BEGIN:DAYLIGHT
TZOFFSETFROM:+1000
TZOFFSETTO:+1100
TZNAME:AEDT
DTSTART:20251004T160000
END:DAYLIGHT
BEGIN:STANDARD
TZOFFSETFROM:+1100
TZOFFSETTO:+1000
TZNAME:AEST
DTSTART:20260404T160000
END:STANDARD
BEGIN:DAYLIGHT
TZOFFSETFROM:+1000
TZOFFSETTO:+1100
TZNAME:AEDT
DTSTART:20261003T160000
END:DAYLIGHT
END:VTIMEZONE
BEGIN:VEVENT
DTSTART;TZID=Australia/Sydney:20250813T184500
DTEND;TZID=Australia/Sydney:20250813T220000
DTSTAMP:20260421T232316
CREATED:20250714T031401Z
LAST-MODIFIED:20250714T031401Z
UID:8610-1755110700-1755122400@paddingtonsociety.org.au
SUMMARY:The Paddington Society Annual Dinner 2025
DESCRIPTION:Our highly anticipated Annual Dinner is always lots of fun and a great opportunity to meet your community. \nEnjoy a glass of bubbly on arrival\, a fabulous dinner and a compelling special guest presentation as we celebrate The Paddington Society’s achievements\, and our unique community. Join in the raffle for your chance to take home one of the selection of coveted prizes! \n \nSpecial Guest Speaker\nAlex Greenwich MP\, Independent State Member for Sydney\nAlex chaired the successful marriage equality YES campaign\, and introduced the bills that decriminalised abortion\, delivered voluntary assisted dying and removed large portions of LGBTIQA+ discrimination. He has chaired landmark inquiries into essential worker housing\, food security\, and energy – the latter which became the catalyst for the state’s renewable energy transition. Alex participated in the 2nd series of “Filthy\, Rich\, and Homeless” SBS documentary and continues to push for compassionate housing policies including working with Paddington residents to defend local boarding houses. He got the new Inner Sydney High School built and is a strong voice for the natural and urban environment. As an independent\, he works with all parties and has provided confidence and supply to both Coalition and Labor minority governments. \nRaffle Prizes\nGet your raffle tickets on the night to enter the draw for a selection of prizes! Remember to bring some cash to buy your tickets. EFTPOS will also be available. \nDate and Time\nWednesday\, 13th August\, 2025\n6:45pm for welcome drinks followed by dinner.\nWine with dinner will be available for order. \n \nCipri Italian Restaurant\nCipri Italian is a Paddington institution with a contemporary take on the finest traditions of Italian hospitality. This restaurant continues Cipri brothers\, Joe and Anthony’s\, passion for good food and dedication to hospitality that dates back generations. \nTo avoid disappointment\, book early as places are limited! \nTicket Prices\nPaddington Society Members: $110\nNon-Members: $120 \n\nTo purchase Member tickets\, please log in to your membership account or join The Paddington Society now\, then refresh this event page to purchase your ticket(s). \n\n	\n\n		\n		\n		\n\n		\n\n		\n\n\n\n	Tickets\n\n		\n	\n	\n		The numbers below include tickets for this event already in your cart. Clicking "Get Tickets" will allow you to edit any existing attendee information as well as change ticket quantities.	\n\n\n		\n		\n		\n	\n		Tickets are no longer available
URL:https://paddingtonsociety.org.au/events/the-paddington-society-annual-dinner-2025/
LOCATION:Cipri Italian\, 10 Elizabeth Street\, Paddington\, NSW\, 2021\, Australia
ATTACH;FMTTYPE=image/jpeg:https://paddingtonsociety.org.au/wp-content/uploads/2024/07/cipri-vintage-image-1920x1080-1.jpg
ORGANIZER;CN="The Paddington Society":MAILTO:heritage@paddingtonsociety.org.au
END:VEVENT
END:VCALENDAR