BEGIN:VCALENDAR
VERSION:2.0
PRODID:-//The Paddington Society - ECPv6.15.18//NONSGML v1.0//EN
CALSCALE:GREGORIAN
METHOD:PUBLISH
X-WR-CALNAME:The Paddington Society
X-ORIGINAL-URL:https://paddingtonsociety.org.au
X-WR-CALDESC:Events for The Paddington Society
REFRESH-INTERVAL;VALUE=DURATION:PT1H
X-Robots-Tag:noindex
X-PUBLISHED-TTL:PT1H
BEGIN:VTIMEZONE
TZID:Australia/Sydney
BEGIN:STANDARD
TZOFFSETFROM:+1100
TZOFFSETTO:+1000
TZNAME:AEST
DTSTART:20240406T160000
END:STANDARD
BEGIN:DAYLIGHT
TZOFFSETFROM:+1000
TZOFFSETTO:+1100
TZNAME:AEDT
DTSTART:20241005T160000
END:DAYLIGHT
BEGIN:STANDARD
TZOFFSETFROM:+1100
TZOFFSETTO:+1000
TZNAME:AEST
DTSTART:20250405T160000
END:STANDARD
BEGIN:DAYLIGHT
TZOFFSETFROM:+1000
TZOFFSETTO:+1100
TZNAME:AEDT
DTSTART:20251004T160000
END:DAYLIGHT
BEGIN:STANDARD
TZOFFSETFROM:+1100
TZOFFSETTO:+1000
TZNAME:AEST
DTSTART:20260404T160000
END:STANDARD
BEGIN:DAYLIGHT
TZOFFSETFROM:+1000
TZOFFSETTO:+1100
TZNAME:AEDT
DTSTART:20261003T160000
END:DAYLIGHT
END:VTIMEZONE
BEGIN:VEVENT
DTSTART;TZID=Australia/Sydney:20250521T103000
DTEND;TZID=Australia/Sydney:20250521T113000
DTSTAMP:20260422T042424
CREATED:20250422T045909Z
LAST-MODIFIED:20250508T030141Z
UID:8006-1747823400-1747827000@paddingtonsociety.org.au
SUMMARY:Native Habitat Gardening
DESCRIPTION:“Coffee\, Cake and Conversation” Talk Series \nThe design of your garden and the plants you choose to grow will influence the animals and birds that visit your backyard. \nEnjoy coffee and cake\, as our speaker\, Michelle Rose\, Environmental Education Officer with Woollahra Municipal Council\, talks on the council’s Backyard Habitat Program\, outlining the key components and tips for selecting local plant species. By connecting reserves\, parks\, backyards and street trees\, corridors for birds and wildlife are established. \nYou’ll learn \n\nWhy create a habitat garden\nWhat features are important for a habitat garden\nHow to select and grow locally native plants; and\nHow to attract small birds to your garden\n\nAll while enjoying the beautiful surrounds of Bonython Cafe. \nA walk to a nearby community garden will follow. \nTickets are essential and are available strictly until sold out. Walk-ins not accepted. \nTickets\n$15 Members\n$20 Non-Members\nTicket price includes coffe and cake. \n  \n\nTo purchase Member tickets\, please log in to your membership account or join The Paddington Society now\, then return to this event page to purchase your ticket(s). \n\n	\n\n		\n		\n		\n\n		\n\n		\n\n\n\n	Tickets\n\n		\n	\n	\n		The numbers below include tickets for this event already in your cart. Clicking "Get Tickets" will allow you to edit any existing attendee information as well as change ticket quantities.	\n\n\n		\n		\n		\n	\n		Tickets are no longer available
URL:https://paddingtonsociety.org.au/events/native-habitat-gardening/
LOCATION:Bonython Cafe\, 120b Underwood Street\, Paddington\, NSW\, 2021\, Australia
ATTACH;FMTTYPE=image/jpeg:https://paddingtonsociety.org.au/wp-content/uploads/2025/04/backyard-habitat-v2-1920x1080-1.jpg
ORGANIZER;CN="The Paddington Society":MAILTO:heritage@paddingtonsociety.org.au
END:VEVENT
END:VCALENDAR