BEGIN:VCALENDAR
VERSION:2.0
PRODID:-//The Paddington Society - ECPv6.15.18//NONSGML v1.0//EN
CALSCALE:GREGORIAN
METHOD:PUBLISH
X-ORIGINAL-URL:https://paddingtonsociety.org.au
X-WR-CALDESC:Events for The Paddington Society
REFRESH-INTERVAL;VALUE=DURATION:PT1H
X-Robots-Tag:noindex
X-PUBLISHED-TTL:PT1H
BEGIN:VTIMEZONE
TZID:Australia/Sydney
BEGIN:STANDARD
TZOFFSETFROM:+1100
TZOFFSETTO:+1000
TZNAME:AEST
DTSTART:20230401T160000
END:STANDARD
BEGIN:DAYLIGHT
TZOFFSETFROM:+1000
TZOFFSETTO:+1100
TZNAME:AEDT
DTSTART:20230930T160000
END:DAYLIGHT
BEGIN:STANDARD
TZOFFSETFROM:+1100
TZOFFSETTO:+1000
TZNAME:AEST
DTSTART:20240406T160000
END:STANDARD
BEGIN:DAYLIGHT
TZOFFSETFROM:+1000
TZOFFSETTO:+1100
TZNAME:AEDT
DTSTART:20241005T160000
END:DAYLIGHT
BEGIN:STANDARD
TZOFFSETFROM:+1100
TZOFFSETTO:+1000
TZNAME:AEST
DTSTART:20250405T160000
END:STANDARD
BEGIN:DAYLIGHT
TZOFFSETFROM:+1000
TZOFFSETTO:+1100
TZNAME:AEDT
DTSTART:20251004T160000
END:DAYLIGHT
END:VTIMEZONE
BEGIN:VEVENT
DTSTART;TZID=Australia/Sydney:20241208T170000
DTEND;TZID=Australia/Sydney:20241208T190000
DTSTAMP:20260422T122642
CREATED:20241110T043200Z
LAST-MODIFIED:20241111T064323Z
UID:6659-1733677200-1733684400@paddingtonsociety.org.au
SUMMARY:2024 Festive Season Celebration
DESCRIPTION:The Paddington Society invites you to celebrate the festive season with our members\, friends\, and supporters in the front garden of historic Juniper Hall. \nPlease bring your family and neighbours\, share good cheer\, and catch up with old and new friends while we celebrate the season. Drinks and snacks are provided by a kind army of volunteer cooks and will include Francis’s famous fruit cake. \nThis is a great chance to see Juniper Hall’s rarely open gardens. Thanks to Peter Moran and his family for their continued support. \nTickets\n$10 – Paddington Society Members\n$15 – Non-Members \n\n	\n\n		\n		\n		\n\n		\n\n		\n\n\n\n	Tickets\n\n		\n	\n	\n		The numbers below include tickets for this event already in your cart. Clicking "Get Tickets" will allow you to edit any existing attendee information as well as change ticket quantities.	\n\n\n		\n		\n		\n	\n		Tickets are no longer available	\n\n\n		\n	\n	\n\n	\n	\n\n	\n	\n\n\n\n			\n\n	\n\n\n \nTo purchase Member tickets\, please log in to your membership account or join The Paddington Society now.
URL:https://paddingtonsociety.org.au/events/2024-festive-season-celebration/
LOCATION:Juniper Hall\, 250 Oxford Street\, Paddington\, NSW\, 2021\, Australia
ATTACH;FMTTYPE=image/jpeg:https://paddingtonsociety.org.au/wp-content/uploads/2024/11/festive24-hero-image-juniper-1920x1080-1.jpg
ORGANIZER;CN="The Paddington Society":MAILTO:heritage@paddingtonsociety.org.au
END:VEVENT
END:VCALENDAR