BEGIN:VCALENDAR
VERSION:2.0
PRODID:-//The Paddington Society - ECPv6.15.18//NONSGML v1.0//EN
CALSCALE:GREGORIAN
METHOD:PUBLISH
X-ORIGINAL-URL:https://paddingtonsociety.org.au
X-WR-CALDESC:Events for The Paddington Society
REFRESH-INTERVAL;VALUE=DURATION:PT1H
X-Robots-Tag:noindex
X-PUBLISHED-TTL:PT1H
BEGIN:VTIMEZONE
TZID:Australia/Sydney
BEGIN:STANDARD
TZOFFSETFROM:+1100
TZOFFSETTO:+1000
TZNAME:AEST
DTSTART:20230401T160000
END:STANDARD
BEGIN:DAYLIGHT
TZOFFSETFROM:+1000
TZOFFSETTO:+1100
TZNAME:AEDT
DTSTART:20230930T160000
END:DAYLIGHT
BEGIN:STANDARD
TZOFFSETFROM:+1100
TZOFFSETTO:+1000
TZNAME:AEST
DTSTART:20240406T160000
END:STANDARD
BEGIN:DAYLIGHT
TZOFFSETFROM:+1000
TZOFFSETTO:+1100
TZNAME:AEDT
DTSTART:20241005T160000
END:DAYLIGHT
BEGIN:STANDARD
TZOFFSETFROM:+1100
TZOFFSETTO:+1000
TZNAME:AEST
DTSTART:20250405T160000
END:STANDARD
BEGIN:DAYLIGHT
TZOFFSETFROM:+1000
TZOFFSETTO:+1100
TZNAME:AEDT
DTSTART:20251004T160000
END:DAYLIGHT
END:VTIMEZONE
BEGIN:VEVENT
DTSTART;TZID=Australia/Sydney:20240814T190000
DTEND;TZID=Australia/Sydney:20240814T220000
DTSTAMP:20260422T192725
CREATED:20240708T052425Z
LAST-MODIFIED:20240821T042854Z
UID:5655-1723662000-1723672800@paddingtonsociety.org.au
SUMMARY:The Paddington Society Annual Dinner 2024
DESCRIPTION:Join us for the annual Paddington Society Dinner\nThis highly anticipated annual event is lots of fun and a great opportunity to meet your community. \nSpecial Guest Speaker: Kate McClymont\, AM\nAs a multi-award-winning investigative journalist\, Kate is celebrated for revealing many corruption-related activities\, as well as initiating ICAC inquiries. A number of the people she investigated were subsequently jailed. As an industry trailblazer\, Kate’s speech promises to be rousing and insightful\, reflecting her dynamic perspective in the local media landscape. \nRaffle Prizes\nGet your raffle tickets on the night to enter the draw for fabulous prizes! Remember to bring some cash to buy your tickets. EFTPOS will also be available. \nDate and Time\nWednesday\, 14th August\, 2024\n7pm for welcome drinks followed by a delicious 3-course dinner.\nWine with dinner will be available for order. \nTo avoid disappointment\, book early as places are limited! \nTicket Prices\nPaddington Society Members: $100\nNon-Members: $110 \nSold Out? Join the Waitlist.\nIf tickets are SOLD OUT\, please join the waitlist by sending us an email and include your name and the number of tickets requested. We will notify you if tickets become available. Thank you.
URL:https://paddingtonsociety.org.au/events/the-paddington-society-annual-dinner-2024/
LOCATION:Cipri Italian\, 10 Elizabeth Street\, Paddington\, NSW\, 2021\, Australia
ATTACH;FMTTYPE=image/jpeg:https://paddingtonsociety.org.au/wp-content/uploads/2024/07/cipri-vintage-image-1920x1080-1.jpg
ORGANIZER;CN="The Paddington Society":MAILTO:heritage@paddingtonsociety.org.au
END:VEVENT
END:VCALENDAR