BEGIN:VCALENDAR
VERSION:2.0
PRODID:-//The Paddington Society - ECPv6.15.18//NONSGML v1.0//EN
CALSCALE:GREGORIAN
METHOD:PUBLISH
X-ORIGINAL-URL:https://paddingtonsociety.org.au
X-WR-CALDESC:Events for The Paddington Society
REFRESH-INTERVAL;VALUE=DURATION:PT1H
X-Robots-Tag:noindex
X-PUBLISHED-TTL:PT1H
BEGIN:VTIMEZONE
TZID:Australia/Sydney
BEGIN:STANDARD
TZOFFSETFROM:+1100
TZOFFSETTO:+1000
TZNAME:AEST
DTSTART:20230401T160000
END:STANDARD
BEGIN:DAYLIGHT
TZOFFSETFROM:+1000
TZOFFSETTO:+1100
TZNAME:AEDT
DTSTART:20230930T160000
END:DAYLIGHT
BEGIN:STANDARD
TZOFFSETFROM:+1100
TZOFFSETTO:+1000
TZNAME:AEST
DTSTART:20240406T160000
END:STANDARD
BEGIN:DAYLIGHT
TZOFFSETFROM:+1000
TZOFFSETTO:+1100
TZNAME:AEDT
DTSTART:20241005T160000
END:DAYLIGHT
BEGIN:STANDARD
TZOFFSETFROM:+1100
TZOFFSETTO:+1000
TZNAME:AEST
DTSTART:20250405T160000
END:STANDARD
BEGIN:DAYLIGHT
TZOFFSETFROM:+1000
TZOFFSETTO:+1100
TZNAME:AEDT
DTSTART:20251004T160000
END:DAYLIGHT
END:VTIMEZONE
BEGIN:VEVENT
DTSTART;TZID=Australia/Sydney:20240718T180000
DTEND;TZID=Australia/Sydney:20240718T193000
DTSTAMP:20260422T205654
CREATED:20240409T032200Z
LAST-MODIFIED:20240821T043036Z
UID:4662-1721325600-1721331000@paddingtonsociety.org.au
SUMMARY:Paddington Maps and Munchies - Conversation Series Session 2
DESCRIPTION:Join us for a speaking event with Bill Morrison for a presentation and discussion on the chapter he contributed to Paddington: A history. \nBill Morrison\, a founding director of Conybeare Morrison\, is an esteemed architect and urban designer with an impressive 40-year career in the planning and development industry. His lifelong dedication to innovative architectural and urban design solutions has led to numerous award-winning projects in architecture\, urban design\, master planning\, and infrastructure design\, forming a diverse national and international portfolio. \n$15 for members\, $20 for non-members. Includes snacks and wine or soft drink. \nPlaces are limited.
URL:https://paddingtonsociety.org.au/events/paddington-maps-and-munchies-conversation-series-session-2/
LOCATION:Paddington Library\, 247 Oxford Street\, Paddington\, NSW\, 2021\, Australia
ATTACH;FMTTYPE=image/jpeg:https://paddingtonsociety.org.au/wp-content/uploads/2024/04/Paddington-Library.jpg
ORGANIZER;CN="The Paddington Society":MAILTO:heritage@paddingtonsociety.org.au
END:VEVENT
END:VCALENDAR