BEGIN:VCALENDAR
VERSION:2.0
PRODID:-//The Paddington Society - ECPv6.15.18//NONSGML v1.0//EN
CALSCALE:GREGORIAN
METHOD:PUBLISH
X-WR-CALNAME:The Paddington Society
X-ORIGINAL-URL:https://paddingtonsociety.org.au
X-WR-CALDESC:Events for The Paddington Society
REFRESH-INTERVAL;VALUE=DURATION:PT1H
X-Robots-Tag:noindex
X-PUBLISHED-TTL:PT1H
BEGIN:VTIMEZONE
TZID:Australia/Sydney
BEGIN:STANDARD
TZOFFSETFROM:+1100
TZOFFSETTO:+1000
TZNAME:AEST
DTSTART:20230401T160000
END:STANDARD
BEGIN:DAYLIGHT
TZOFFSETFROM:+1000
TZOFFSETTO:+1100
TZNAME:AEDT
DTSTART:20230930T160000
END:DAYLIGHT
BEGIN:STANDARD
TZOFFSETFROM:+1100
TZOFFSETTO:+1000
TZNAME:AEST
DTSTART:20240406T160000
END:STANDARD
BEGIN:DAYLIGHT
TZOFFSETFROM:+1000
TZOFFSETTO:+1100
TZNAME:AEDT
DTSTART:20241005T160000
END:DAYLIGHT
BEGIN:STANDARD
TZOFFSETFROM:+1100
TZOFFSETTO:+1000
TZNAME:AEST
DTSTART:20250405T160000
END:STANDARD
BEGIN:DAYLIGHT
TZOFFSETFROM:+1000
TZOFFSETTO:+1100
TZNAME:AEDT
DTSTART:20251004T160000
END:DAYLIGHT
END:VTIMEZONE
BEGIN:VEVENT
DTSTART;TZID=Australia/Sydney:20240322T110000
DTEND;TZID=Australia/Sydney:20240322T140000
DTSTAMP:20260422T123911
CREATED:20240409T021622Z
LAST-MODIFIED:20240714T050038Z
UID:4637-1711105200-1711116000@paddingtonsociety.org.au
SUMMARY:Coffee\, Cake and Conversation – Session 1
DESCRIPTION:Join us for a speaking event from Sandra Hall on the chapter she contributed to Paddington: A History. Sandra Hall is an Australian author and journalist\, best known as a film reviewer for The Age and The Sydney Morning Herald. \nCost: $10 for members\, $15 for non-members. Includes coffee and cake. \nPlaces are limited.
URL:https://paddingtonsociety.org.au/events/coffee-cake-and-conversation-session-1/
LOCATION:Bonython Cafe\, 120b Underwood Street\, Paddington\, NSW\, 2021\, Australia
ATTACH;FMTTYPE=image/jpeg:https://paddingtonsociety.org.au/wp-content/uploads/2024/02/Bonython-Cafe.jpg
ORGANIZER;CN="The Paddington Society":MAILTO:heritage@paddingtonsociety.org.au
END:VEVENT
END:VCALENDAR