BEGIN:VCALENDAR
VERSION:2.0
PRODID:-//The Paddington Society - ECPv6.15.18//NONSGML v1.0//EN
CALSCALE:GREGORIAN
METHOD:PUBLISH
X-ORIGINAL-URL:https://paddingtonsociety.org.au
X-WR-CALDESC:Events for The Paddington Society
REFRESH-INTERVAL;VALUE=DURATION:PT1H
X-Robots-Tag:noindex
X-PUBLISHED-TTL:PT1H
BEGIN:VTIMEZONE
TZID:Australia/Sydney
BEGIN:STANDARD
TZOFFSETFROM:+1100
TZOFFSETTO:+1000
TZNAME:AEST
DTSTART:20240406T160000
END:STANDARD
BEGIN:DAYLIGHT
TZOFFSETFROM:+1000
TZOFFSETTO:+1100
TZNAME:AEDT
DTSTART:20241005T160000
END:DAYLIGHT
BEGIN:STANDARD
TZOFFSETFROM:+1100
TZOFFSETTO:+1000
TZNAME:AEST
DTSTART:20250405T160000
END:STANDARD
BEGIN:DAYLIGHT
TZOFFSETFROM:+1000
TZOFFSETTO:+1100
TZNAME:AEDT
DTSTART:20251004T160000
END:DAYLIGHT
BEGIN:STANDARD
TZOFFSETFROM:+1100
TZOFFSETTO:+1000
TZNAME:AEST
DTSTART:20260404T160000
END:STANDARD
BEGIN:DAYLIGHT
TZOFFSETFROM:+1000
TZOFFSETTO:+1100
TZNAME:AEDT
DTSTART:20261003T160000
END:DAYLIGHT
BEGIN:STANDARD
TZOFFSETFROM:+1100
TZOFFSETTO:+1000
TZNAME:AEST
DTSTART:20270403T160000
END:STANDARD
BEGIN:DAYLIGHT
TZOFFSETFROM:+1000
TZOFFSETTO:+1100
TZNAME:AEDT
DTSTART:20271002T160000
END:DAYLIGHT
END:VTIMEZONE
BEGIN:VEVENT
DTSTART;TZID=Australia/Sydney:20251117T180000
DTEND;TZID=Australia/Sydney:20251117T193000
DTSTAMP:20260421T204157
CREATED:20250916T233550Z
LAST-MODIFIED:20251113T043245Z
UID:9136-1763402400-1763407800@paddingtonsociety.org.au
SUMMARY:Annual General Meeting 2025
DESCRIPTION:The Paddington Society Members and interested parties are invited to The Paddington Society Annual General Meeting 2025. In addition to a few formalities\, we will report on what we have done in the past year to protect Paddington’s heritage and amenity. We will also outline plans to address current and emerging concerns. There will be an opportunity to ask questions and discuss issues. \nThe Annual General Meeting Agenda \n\nApologies.\nTo confirm the Minutes of the previous Annual General Meeting\, held 18 November 2024.\nTo receive the President’s Report of the Society’s activities for 2024/25.\nTo receive and consider the Treasurer’s Report for the 2024/25 Financial Year.\nTo move a vote of thanks to the Auditor.\nTo appoint an Auditor / Auditors for the 2025/26 Financial Year.\nTo elect Office Bearers and Committee Members.\nAny other business.\n\nOnly current Members will be entitled to vote at the AGM. Log in to see your current Membership status. If you would like to become a member or renew your membership\, please visit our Membership page. \nProxy voting is not permitted at annual general meetings of the Society. \nCurrent members can download copies of the 2024 AGM Minutes and the 2024 Accounts. \nThe opportunity to join the Committee is open to Society members. If you wish to nominate yourself or another member to join the Committee\, please email the Secretary\, and we will provide a nomination form. Nominations must be received no later than 6:00 pm Monday 10 November 2025. \nNew Committee positions are to be taken up immediately following the Annual General Meeting of the Society and to run until the closure of the next Annual General Meeting unless otherwise determined in accordance with the Society’s Constitution. \nLight refreshments will be served after the meeting\, so please RSVP (Get Tickets below) for catering purposes. It’s a great opportunity to meet fellow members and others who are passionate about Paddington.
URL:https://paddingtonsociety.org.au/events/annual-general-meeting-2025/
LOCATION:EJ Ward Centre\, 189 Underwood Street\, Paddington\, NSW\, 2021\, Australia
ATTACH;FMTTYPE=image/jpeg:https://paddingtonsociety.org.au/wp-content/uploads/2025/09/AGM-2025-Header-V2-1920x1080-1.jpg
ORGANIZER;CN="The Paddington Society":MAILTO:heritage@paddingtonsociety.org.au
END:VEVENT
BEGIN:VEVENT
DTSTART;TZID=Australia/Sydney:20251207T170000
DTEND;TZID=Australia/Sydney:20251207T190000
DTSTAMP:20260421T204157
CREATED:20251013T235920Z
LAST-MODIFIED:20251026T235747Z
UID:9329-1765126800-1765134000@paddingtonsociety.org.au
SUMMARY:2025 Festive Season Celebration
DESCRIPTION:The Paddington Society invites you to celebrate the festive season with our members\, friends\, and supporters in the front garden of historic Juniper Hall. \nPlease bring your family and neighbours\, share good cheer\, and catch up with old and new friends while we celebrate the season. Drinks and snacks are included. \nThis is a great chance to see Juniper Hall’s rarely open gardens. Thanks to Peter Moran and his family for their continued support. \nTickets\n$10 – Paddington Society Members\n$15 – Non-Members \n\n	\n\n		\n		\n		\n\n		\n\n		\n\n\n\n	Tickets\n\n		\n	\n	\n		The numbers below include tickets for this event already in your cart. Clicking "Get Tickets" will allow you to edit any existing attendee information as well as change ticket quantities.	\n\n\n		\n		\n		\n	\n		Tickets are no longer available	\n\n\n		\n	\n	\n\n	\n	\n\n	\n	\n\n\n\n			\n\n	\n\n\n \nTo purchase Member tickets\, please log in to your membership account or join The Paddington Society now.
URL:https://paddingtonsociety.org.au/events/2025-festive-season-celebration/
LOCATION:Juniper Hall\, 250 Oxford Street\, Paddington\, NSW\, 2021\, Australia
ATTACH;FMTTYPE=image/jpeg:https://paddingtonsociety.org.au/wp-content/uploads/2025/10/hero-image-juniper-25-V2-1920x1078-1.jpg
ORGANIZER;CN="The Paddington Society":MAILTO:heritage@paddingtonsociety.org.au
END:VEVENT
BEGIN:VEVENT
DTSTART;TZID=Australia/Sydney:20260416T183000
DTEND;TZID=Australia/Sydney:20260416T193000
DTSTAMP:20260421T204157
CREATED:20260211T031910Z
LAST-MODIFIED:20260227T063542Z
UID:9989-1776364200-1776367800@paddingtonsociety.org.au
SUMMARY:Conversations: "Views to Die For" with Mark Skelsey
DESCRIPTION:Welcome to the next compelling talk in Paddington Society’s “Conversations” series of events. This talk by author Mark Skelsey leverages his research and experience as an author and journalist with a strong interest in urban affairs\, bringing a unique perspective and insights to current debates around development\, housing\, and heritage. \nMark’s book “Views To Die For” was published alongside the 50th anniversary of the disappearance and presumed murder of Kings Cross publisher Juanita Nielsen. It tells the incredible inside story of the urban warfare which changed Sydney forever. \nThe book reveals what Nielsen was fighting for and shows how the urban warfare leading to her death sparked significant societal and policy changes in areas such as heritage\, affordable housing\, planning consultation and police corruption. \nSome of these reforms are now the subject of heated debate as Sydney and Australia face housing affordability problems. \n\nAuthor Mark Skelsey in Victoria St Potts Point \nAbout the Presenter \nMark Skelsey is a Sydney-based writer and media and communications professional\, with a strong interest in urban affairs issues. \nHe is a former State Political Reporter\, and City Editor\, with the Daily Telegraph\, and a former Media Manager at the NSW Department of Planning. He’s spent ten years conducting interviews and original archival research for “Views to Die For”. \nHe has a Masters in Environmental Law from the University of Sydney (2010) and a Bachelor of Arts (Communications) from the University of Technology\, Sydney (1990). \n\n  \nThis event is supported by Woollahra Municipal Council. \nTickets\n$10 Members\n$15 Non-Members\nTicket price includes a glass of bubbles on arrival and nibbles. \nTickets essential and available until sold out. Due to limited seating\, tickets will not be available at the door. Book early to avoid disappointment. \nIf not already a Member\, please consider joining the Paddington Society and supporting our future events. \n\nTo purchase Member tickets\, please log in to your membership account or join The Paddington Society now\, then refresh this event page to purchase your ticket(s). \n\n	\n\n		\n		\n		\n\n		\n\n		\n\n\n\n	Tickets\n\n		\n	\n	\n		The numbers below include tickets for this event already in your cart. Clicking "Get Tickets" will allow you to edit any existing attendee information as well as change ticket quantities.	\n\n\n		\n		\n		\n	\n		Tickets are no longer available
URL:https://paddingtonsociety.org.au/events/conversations-views-to-die-for-with-mark-skelsey/
LOCATION:Paddington Library\, 247 Oxford Street\, Paddington\, NSW\, 2021\, Australia
ATTACH;FMTTYPE=image/jpeg:https://paddingtonsociety.org.au/wp-content/uploads/2026/02/BLFpresidentBobPringleleftandsecretaryJackMundeyrightataMayDaymarchin1973.jpg
ORGANIZER;CN="The Paddington Society":MAILTO:heritage@paddingtonsociety.org.au
END:VEVENT
END:VCALENDAR